BEGIN:VCALENDAR
VERSION:2.0
PRODID:-//The Legacy - ECPv6.15.18//NONSGML v1.0//EN
CALSCALE:GREGORIAN
METHOD:PUBLISH
X-WR-CALNAME:The Legacy
X-ORIGINAL-URL:https://www.golfthelegacy.com
X-WR-CALDESC:Events for The Legacy
REFRESH-INTERVAL;VALUE=DURATION:PT1H
X-Robots-Tag:noindex
X-PUBLISHED-TTL:PT1H
BEGIN:VTIMEZONE
TZID:UTC
BEGIN:STANDARD
TZOFFSETFROM:+0000
TZOFFSETTO:+0000
TZNAME:UTC
DTSTART:20240101T000000
END:STANDARD
END:VTIMEZONE
BEGIN:VEVENT
DTSTART;TZID=UTC:20250613T090000
DTEND;TZID=UTC:20250613T170000
DTSTAMP:20260425T161930
CREATED:20250514T234102Z
LAST-MODIFIED:20250514T234102Z
UID:10000005-1749805200-1749834000@www.golfthelegacy.com
SUMMARY:Springfield Football
DESCRIPTION:9:00am shotgun
URL:https://www.golfthelegacy.com/event/springfield-football/
END:VEVENT
BEGIN:VEVENT
DTSTART;TZID=UTC:20250610T083000
DTEND;TZID=UTC:20250610T170000
DTSTAMP:20260425T161930
CREATED:20250514T234033Z
LAST-MODIFIED:20250514T234033Z
UID:10000004-1749544200-1749574800@www.golfthelegacy.com
SUMMARY:TN Seniors
DESCRIPTION:8:30a Shotgun
URL:https://www.golfthelegacy.com/event/tn-seniors/
END:VEVENT
BEGIN:VEVENT
DTSTART;TZID=UTC:20250606T090000
DTEND;TZID=UTC:20250606T170000
DTSTAMP:20260425T161930
CREATED:20250514T233949Z
LAST-MODIFIED:20250514T233949Z
UID:10000003-1749200400-1749229200@www.golfthelegacy.com
SUMMARY:Springfield Rotary
DESCRIPTION:9am shotgun
URL:https://www.golfthelegacy.com/event/springfield-rotary/
END:VEVENT
BEGIN:VEVENT
DTSTART;TZID=UTC:20250529T073000
DTEND;TZID=UTC:20250529T170000
DTSTAMP:20260425T161930
CREATED:20250514T233900Z
LAST-MODIFIED:20250514T233900Z
UID:10000002-1748503800-1748538000@www.golfthelegacy.com
SUMMARY:Sneds Tour
DESCRIPTION:7:30am tee times
URL:https://www.golfthelegacy.com/event/sneds-tour-2/
END:VEVENT
BEGIN:VEVENT
DTSTART;TZID=UTC:20250528T073000
DTEND;TZID=UTC:20250528T170000
DTSTAMP:20260425T161930
CREATED:20250514T233837Z
LAST-MODIFIED:20250514T233837Z
UID:10000001-1748417400-1748451600@www.golfthelegacy.com
SUMMARY:Sneds Tour
DESCRIPTION:7:30am tee times
URL:https://www.golfthelegacy.com/event/sneds-tour/
END:VEVENT
END:VCALENDAR