BEGIN:VCALENDAR
VERSION:2.0
PRODID:-//The Legacy - ECPv6.15.18//NONSGML v1.0//EN
CALSCALE:GREGORIAN
METHOD:PUBLISH
X-ORIGINAL-URL:https://www.golfthelegacy.com
X-WR-CALDESC:Events for The Legacy
REFRESH-INTERVAL;VALUE=DURATION:PT1H
X-Robots-Tag:noindex
X-PUBLISHED-TTL:PT1H
BEGIN:VTIMEZONE
TZID:America/Chicago
BEGIN:DAYLIGHT
TZOFFSETFROM:-0600
TZOFFSETTO:-0500
TZNAME:CDT
DTSTART:20240310T080000
END:DAYLIGHT
BEGIN:STANDARD
TZOFFSETFROM:-0500
TZOFFSETTO:-0600
TZNAME:CST
DTSTART:20241103T070000
END:STANDARD
BEGIN:DAYLIGHT
TZOFFSETFROM:-0600
TZOFFSETTO:-0500
TZNAME:CDT
DTSTART:20250309T080000
END:DAYLIGHT
BEGIN:STANDARD
TZOFFSETFROM:-0500
TZOFFSETTO:-0600
TZNAME:CST
DTSTART:20251102T070000
END:STANDARD
BEGIN:DAYLIGHT
TZOFFSETFROM:-0600
TZOFFSETTO:-0500
TZNAME:CDT
DTSTART:20260308T080000
END:DAYLIGHT
BEGIN:STANDARD
TZOFFSETFROM:-0500
TZOFFSETTO:-0600
TZNAME:CST
DTSTART:20261101T070000
END:STANDARD
BEGIN:DAYLIGHT
TZOFFSETFROM:-0600
TZOFFSETTO:-0500
TZNAME:CDT
DTSTART:20270314T080000
END:DAYLIGHT
BEGIN:STANDARD
TZOFFSETFROM:-0500
TZOFFSETTO:-0600
TZNAME:CST
DTSTART:20271107T070000
END:STANDARD
END:VTIMEZONE
BEGIN:VTIMEZONE
TZID:UTC
BEGIN:STANDARD
TZOFFSETFROM:+0000
TZOFFSETTO:+0000
TZNAME:UTC
DTSTART:20240101T000000
END:STANDARD
END:VTIMEZONE
BEGIN:VEVENT
DTSTART;TZID=America/Chicago:20260423T130000
DTEND;TZID=America/Chicago:20260423T130000
DTSTAMP:20260425T091231
CREATED:20260305T145010Z
LAST-MODIFIED:20260305T145010Z
UID:10000034-1776949200-1776949200@www.golfthelegacy.com
SUMMARY:SHS Golf Scramble
DESCRIPTION:1:00pm Shotgun\, Open to anyone
URL:https://www.golfthelegacy.com/event/shs-golf-scramble/
END:VEVENT
BEGIN:VEVENT
DTSTART;TZID=America/Chicago:20260420T090000
DTEND;TZID=America/Chicago:20260420T140000
DTSTAMP:20260425T091231
CREATED:20260305T144927Z
LAST-MODIFIED:20260305T144927Z
UID:10000033-1776675600-1776693600@www.golfthelegacy.com
SUMMARY:TN Seniors
DESCRIPTION:9:00am Shotgun\, Course opens around 2:00pm
URL:https://www.golfthelegacy.com/event/tn-seniors-2/
END:VEVENT
BEGIN:VEVENT
DTSTART;TZID=America/Chicago:20260416T090000
DTEND;TZID=America/Chicago:20260416T090000
DTSTAMP:20260425T091231
CREATED:20260305T144854Z
LAST-MODIFIED:20260305T144854Z
UID:10000032-1776330000-1776330000@www.golfthelegacy.com
SUMMARY:Good Shepherd Children’s Home Scramble
DESCRIPTION:9:00am Shotgun\, Open to anyone
URL:https://www.golfthelegacy.com/event/good-shepherd-childrens-home-scramble/
END:VEVENT
BEGIN:VEVENT
DTSTART;TZID=America/Chicago:20260413T090000
DTEND;TZID=America/Chicago:20260413T130000
DTSTAMP:20260425T091231
CREATED:20260305T144823Z
LAST-MODIFIED:20260305T144823Z
UID:10000031-1776070800-1776085200@www.golfthelegacy.com
SUMMARY:Middle TN Seniors
DESCRIPTION:Modified Shot gun Start 9:00am\, Course opens for play around 1:00pm
URL:https://www.golfthelegacy.com/event/middle-tn-seniors-2/
END:VEVENT
BEGIN:VEVENT
DTSTART;TZID=America/Chicago:20260411T100000
DTEND;TZID=America/Chicago:20260411T120000
DTSTAMP:20260425T091231
CREATED:20260305T144744Z
LAST-MODIFIED:20260305T144744Z
UID:10000030-1775901600-1775908800@www.golfthelegacy.com
SUMMARY:Legacy Golf Association Legacy Masters
DESCRIPTION:Tee Times from 10:00am until 12:00pm\, Open for Legacy Golf Association Members
URL:https://www.golfthelegacy.com/event/legacy-golf-association-legacy-masters/
END:VEVENT
BEGIN:VEVENT
DTSTART;TZID=America/Chicago:20260408T120000
DTEND;TZID=America/Chicago:20260408T180000
DTSTAMP:20260425T091231
CREATED:20260305T144654Z
LAST-MODIFIED:20260305T144715Z
UID:10000029-1775649600-1775671200@www.golfthelegacy.com
SUMMARY:Par 3 Tournament
DESCRIPTION:Tee Times from 12:00pm until 6:00pm\, Open to anyone
URL:https://www.golfthelegacy.com/event/par-3-tournament/
END:VEVENT
BEGIN:VEVENT
DTSTART;TZID=America/Chicago:20260328T080000
DTEND;TZID=America/Chicago:20260328T130000
DTSTAMP:20260425T091231
CREATED:20260227T012303Z
LAST-MODIFIED:20260305T144546Z
UID:10000028-1774684800-1774702800@www.golfthelegacy.com
SUMMARY:Amateur Players Tour
DESCRIPTION:Amateur Players Tour\, Tee Times from 8:00am until 1:00pm\, Course opens for play at 1:00pm
URL:https://www.golfthelegacy.com/event/amateur-players-tour/
END:VEVENT
BEGIN:VEVENT
DTSTART;TZID=America/Chicago:20260321T100000
DTEND;TZID=America/Chicago:20260321T120000
DTSTAMP:20260425T091231
CREATED:20260227T012236Z
LAST-MODIFIED:20260305T144521Z
UID:10000027-1774087200-1774094400@www.golfthelegacy.com
SUMMARY:MGA Mulligan Madness
DESCRIPTION:Legacy Golf Association Mulligan Madness\, Tee Times from 10:00am until 12:00pm
URL:https://www.golfthelegacy.com/event/mga-mulligan-madness/
END:VEVENT
BEGIN:VEVENT
DTSTART;TZID=America/Chicago:20260308T080000
DTEND;TZID=America/Chicago:20260308T160000
DTSTAMP:20260425T091231
CREATED:20260227T012213Z
LAST-MODIFIED:20260305T144453Z
UID:10000026-1772956800-1772985600@www.golfthelegacy.com
SUMMARY:Music City Shootout
DESCRIPTION:Music City Shootout Final Round\, College Tournament\, Double Tee Start 8:30am\, Course Opens for play around 4pm
URL:https://www.golfthelegacy.com/event/music-city-shootout-2/
END:VEVENT
BEGIN:VEVENT
DTSTART;TZID=America/Chicago:20260307T080000
DTEND;TZID=America/Chicago:20260307T080000
DTSTAMP:20260425T091231
CREATED:20260227T012152Z
LAST-MODIFIED:20260305T144432Z
UID:10000025-1772870400-1772870400@www.golfthelegacy.com
SUMMARY:Music City Shootout
DESCRIPTION:Music City Shootout First Round\, College Tournament\, Double Tee Start 8:00am\, Course Closed for outside play
URL:https://www.golfthelegacy.com/event/music-city-shootout/
END:VEVENT
BEGIN:VEVENT
DTSTART;TZID=America/Chicago:20260306T083000
DTEND;TZID=America/Chicago:20260306T143000
DTSTAMP:20260425T091231
CREATED:20260227T012129Z
LAST-MODIFIED:20260305T144352Z
UID:10000024-1772785800-1772807400@www.golfthelegacy.com
SUMMARY:Music City Shootout Practice Rounds
DESCRIPTION:College Tournament\, Tee times from 8:30am until 2:30pm
URL:https://www.golfthelegacy.com/event/practice-rounds/
END:VEVENT
BEGIN:VEVENT
DTSTART;VALUE=DATE:20251231
DTEND;VALUE=DATE:20260101
DTSTAMP:20260425T091231
CREATED:20251107T180620Z
LAST-MODIFIED:20251107T180620Z
UID:10000023-1767139200-1767225599@www.golfthelegacy.com
SUMMARY:New Year’s Eve
DESCRIPTION:December 31st New Year’s Eve
URL:https://www.golfthelegacy.com/event/new-years-eve/
END:VEVENT
BEGIN:VEVENT
DTSTART;VALUE=DATE:20251225
DTEND;VALUE=DATE:20251226
DTSTAMP:20260425T091231
CREATED:20251107T180553Z
LAST-MODIFIED:20251107T180553Z
UID:10000022-1766620800-1766707199@www.golfthelegacy.com
SUMMARY:Christmas Day / Course Closed
DESCRIPTION:December 25th Christmas Day / Course Closed
URL:https://www.golfthelegacy.com/event/christmas-day-course-closed/
END:VEVENT
BEGIN:VEVENT
DTSTART;VALUE=DATE:20251224
DTEND;VALUE=DATE:20251225
DTSTAMP:20260425T091231
CREATED:20251107T180521Z
LAST-MODIFIED:20251107T180521Z
UID:10000021-1766534400-1766620799@www.golfthelegacy.com
SUMMARY:Christmas Eve
DESCRIPTION:December 24th Christmas Eve
URL:https://www.golfthelegacy.com/event/christmas-eve/
END:VEVENT
BEGIN:VEVENT
DTSTART;VALUE=DATE:20251127
DTEND;VALUE=DATE:20251128
DTSTAMP:20260425T091231
CREATED:20251107T180331Z
LAST-MODIFIED:20251107T180331Z
UID:10000020-1764201600-1764287999@www.golfthelegacy.com
SUMMARY:Thanksgiving Day / Course Closed
DESCRIPTION:November 27 Thanksgiving Day / Course Closed
URL:https://www.golfthelegacy.com/event/thanksgiving-day-course-closed/
END:VEVENT
BEGIN:VEVENT
DTSTART;TZID=America/Chicago:20251116T110000
DTEND;TZID=America/Chicago:20251116T110000
DTSTAMP:20260425T091231
CREATED:20251107T180259Z
LAST-MODIFIED:20251107T181442Z
UID:10000019-1763290800-1763290800@www.golfthelegacy.com
SUMMARY:McKee / Williamson Cup
DESCRIPTION:November 16th McKee / Williamson
URL:https://www.golfthelegacy.com/event/mckee-williamson/
END:VEVENT
BEGIN:VEVENT
DTSTART;TZID=America/Chicago:20251115T100000
DTEND;TZID=America/Chicago:20251115T100000
DTSTAMP:20260425T091231
CREATED:20251107T180219Z
LAST-MODIFIED:20251107T181404Z
UID:10000018-1763200800-1763200800@www.golfthelegacy.com
SUMMARY:McKee / Williamson Cup
DESCRIPTION:November 15 McKee / Williamson Cup
URL:https://www.golfthelegacy.com/event/mckee-williamson-cup/
END:VEVENT
BEGIN:VEVENT
DTSTART;TZID=America/Chicago:20250828T090000
DTEND;TZID=America/Chicago:20250828T090000
DTSTAMP:20260425T091231
CREATED:20250724T180339Z
LAST-MODIFIED:20250724T180339Z
UID:10000017-1756371600-1756371600@www.golfthelegacy.com
SUMMARY:Shriners Outing
DESCRIPTION:
URL:https://www.golfthelegacy.com/event/shriners-outing/
END:VEVENT
BEGIN:VEVENT
DTSTART;TZID=America/Chicago:20250825T110000
DTEND;TZID=America/Chicago:20250825T110000
DTSTAMP:20260425T091231
CREATED:20250724T180210Z
LAST-MODIFIED:20250724T180210Z
UID:10000016-1756119600-1756119600@www.golfthelegacy.com
SUMMARY:Robertson County Cup
DESCRIPTION:
URL:https://www.golfthelegacy.com/event/robertson-county-cup/
END:VEVENT
BEGIN:VEVENT
DTSTART;TZID=America/Chicago:20250824T073000
DTEND;TZID=America/Chicago:20250824T073000
DTSTAMP:20260425T091231
CREATED:20250724T180136Z
LAST-MODIFIED:20250724T180136Z
UID:10000015-1756020600-1756020600@www.golfthelegacy.com
SUMMARY:Bud Light 2 Man
DESCRIPTION:Learn more
URL:https://www.golfthelegacy.com/event/bud-light-2-man-2/
END:VEVENT
BEGIN:VEVENT
DTSTART;TZID=America/Chicago:20250823T090000
DTEND;TZID=America/Chicago:20250823T090000
DTSTAMP:20260425T091231
CREATED:20250724T175819Z
LAST-MODIFIED:20250724T175819Z
UID:10000014-1755939600-1755939600@www.golfthelegacy.com
SUMMARY:Bud Light 2 Man
DESCRIPTION:Learn more
URL:https://www.golfthelegacy.com/event/bud-light-2-man/
END:VEVENT
BEGIN:VEVENT
DTSTART;TZID=America/Chicago:20250818T090000
DTEND;TZID=America/Chicago:20250818T090000
DTSTAMP:20260425T091231
CREATED:20250724T175736Z
LAST-MODIFIED:20250724T175736Z
UID:10000013-1755507600-1755507600@www.golfthelegacy.com
SUMMARY:Giannotti Outing
DESCRIPTION:
URL:https://www.golfthelegacy.com/event/giannotti-outing/
END:VEVENT
BEGIN:VEVENT
DTSTART;TZID=America/Chicago:20250816T123000
DTEND;TZID=America/Chicago:20250816T123000
DTSTAMP:20260425T091231
CREATED:20250724T175703Z
LAST-MODIFIED:20250724T175703Z
UID:10000012-1755347400-1755347400@www.golfthelegacy.com
SUMMARY:Golf Week Tour
DESCRIPTION:
URL:https://www.golfthelegacy.com/event/golf-week-tour/
END:VEVENT
BEGIN:VEVENT
DTSTART;TZID=America/Chicago:20250814T090000
DTEND;TZID=America/Chicago:20250814T090000
DTSTAMP:20260425T091231
CREATED:20250724T175254Z
LAST-MODIFIED:20250724T175254Z
UID:10000011-1755162000-1755162000@www.golfthelegacy.com
SUMMARY:Kiwanis Outing
DESCRIPTION:
URL:https://www.golfthelegacy.com/event/kiwanis-outing/
END:VEVENT
BEGIN:VEVENT
DTSTART;TZID=America/Chicago:20250810T120000
DTEND;TZID=America/Chicago:20250810T120000
DTSTAMP:20260425T091231
CREATED:20250724T175119Z
LAST-MODIFIED:20250724T175119Z
UID:10000010-1754827200-1754827200@www.golfthelegacy.com
SUMMARY:Club Championship
DESCRIPTION:
URL:https://www.golfthelegacy.com/event/club-championship-2/
END:VEVENT
BEGIN:VEVENT
DTSTART;TZID=America/Chicago:20250809T100000
DTEND;TZID=America/Chicago:20250809T100000
DTSTAMP:20260425T091231
CREATED:20250724T175036Z
LAST-MODIFIED:20250724T175036Z
UID:10000009-1754733600-1754733600@www.golfthelegacy.com
SUMMARY:Club Championship
DESCRIPTION:
URL:https://www.golfthelegacy.com/event/club-championship/
END:VEVENT
BEGIN:VEVENT
DTSTART;TZID=UTC:20250630T083000
DTEND;TZID=UTC:20250630T170000
DTSTAMP:20260425T091231
CREATED:20250514T234238Z
LAST-MODIFIED:20250514T234238Z
UID:10000008-1751272200-1751302800@www.golfthelegacy.com
SUMMARY:Middle TN Seniors
DESCRIPTION:8:30a Shotgun
URL:https://www.golfthelegacy.com/event/middle-tn-seniors/
END:VEVENT
BEGIN:VEVENT
DTSTART;TZID=UTC:20250622T090000
DTEND;TZID=UTC:20250622T170000
DTSTAMP:20260425T091231
CREATED:20250514T234200Z
LAST-MODIFIED:20250514T234200Z
UID:10000007-1750582800-1750611600@www.golfthelegacy.com
SUMMARY:VGA
DESCRIPTION:9am tee times
URL:https://www.golfthelegacy.com/event/vga/
END:VEVENT
BEGIN:VEVENT
DTSTART;TZID=UTC:20250619T090000
DTEND;TZID=UTC:20250619T170000
DTSTAMP:20260425T091231
CREATED:20250514T234131Z
LAST-MODIFIED:20250514T234131Z
UID:10000006-1750323600-1750352400@www.golfthelegacy.com
SUMMARY:NWGA
DESCRIPTION:9am tee times
URL:https://www.golfthelegacy.com/event/nwga/
END:VEVENT
BEGIN:VEVENT
DTSTART;TZID=UTC:20250613T090000
DTEND;TZID=UTC:20250613T170000
DTSTAMP:20260425T091231
CREATED:20250514T234102Z
LAST-MODIFIED:20250514T234102Z
UID:10000005-1749805200-1749834000@www.golfthelegacy.com
SUMMARY:Springfield Football
DESCRIPTION:9:00am shotgun
URL:https://www.golfthelegacy.com/event/springfield-football/
END:VEVENT
END:VCALENDAR