BEGIN:VCALENDAR
VERSION:2.0
PRODID:-//The Legacy - ECPv6.15.18//NONSGML v1.0//EN
CALSCALE:GREGORIAN
METHOD:PUBLISH
X-WR-CALNAME:The Legacy
X-ORIGINAL-URL:https://www.golfthelegacy.com
X-WR-CALDESC:Events for The Legacy
REFRESH-INTERVAL;VALUE=DURATION:PT1H
X-Robots-Tag:noindex
X-PUBLISHED-TTL:PT1H
BEGIN:VTIMEZONE
TZID:America/Chicago
BEGIN:DAYLIGHT
TZOFFSETFROM:-0600
TZOFFSETTO:-0500
TZNAME:CDT
DTSTART:20250309T080000
END:DAYLIGHT
BEGIN:STANDARD
TZOFFSETFROM:-0500
TZOFFSETTO:-0600
TZNAME:CST
DTSTART:20251102T070000
END:STANDARD
BEGIN:DAYLIGHT
TZOFFSETFROM:-0600
TZOFFSETTO:-0500
TZNAME:CDT
DTSTART:20260308T080000
END:DAYLIGHT
BEGIN:STANDARD
TZOFFSETFROM:-0500
TZOFFSETTO:-0600
TZNAME:CST
DTSTART:20261101T070000
END:STANDARD
BEGIN:DAYLIGHT
TZOFFSETFROM:-0600
TZOFFSETTO:-0500
TZNAME:CDT
DTSTART:20270314T080000
END:DAYLIGHT
BEGIN:STANDARD
TZOFFSETFROM:-0500
TZOFFSETTO:-0600
TZNAME:CST
DTSTART:20271107T070000
END:STANDARD
END:VTIMEZONE
BEGIN:VEVENT
DTSTART;TZID=America/Chicago:20260423T130000
DTEND;TZID=America/Chicago:20260423T130000
DTSTAMP:20260423T073045
CREATED:20260305T145010Z
LAST-MODIFIED:20260305T145010Z
UID:10000034-1776949200-1776949200@www.golfthelegacy.com
SUMMARY:SHS Golf Scramble
DESCRIPTION:1:00pm Shotgun\, Open to anyone
URL:https://www.golfthelegacy.com/event/shs-golf-scramble/
END:VEVENT
BEGIN:VEVENT
DTSTART;TZID=America/Chicago:20260425T100000
DTEND;TZID=America/Chicago:20260425T120000
DTSTAMP:20260423T073045
CREATED:20260305T145043Z
LAST-MODIFIED:20260305T145043Z
UID:10000035-1777111200-1777118400@www.golfthelegacy.com
SUMMARY:Legacy Golf Association
DESCRIPTION:Tee Times from 10:00am until 12:00pm\, Open for Legacy Golf Association Members
URL:https://www.golfthelegacy.com/event/legacy-golf-association/
END:VEVENT
END:VCALENDAR